BEGIN:VCALENDAR
VERSION:2.0
PRODID:-//Mareeba Chamber of Commerce - ECPv6.15.20//NONSGML v1.0//EN
CALSCALE:GREGORIAN
METHOD:PUBLISH
X-ORIGINAL-URL:https://events.mareebachamber.com.au
X-WR-CALDESC:Events for Mareeba Chamber of Commerce
REFRESH-INTERVAL;VALUE=DURATION:PT1H
X-Robots-Tag:noindex
X-PUBLISHED-TTL:PT1H
BEGIN:VTIMEZONE
TZID:Australia/Brisbane
BEGIN:STANDARD
TZOFFSETFROM:+1000
TZOFFSETTO:+1000
TZNAME:AEST
DTSTART:20240101T000000
END:STANDARD
END:VTIMEZONE
BEGIN:VEVENT
DTSTART;TZID=Australia/Brisbane:20251101T173000
DTEND;TZID=Australia/Brisbane:20251101T233000
DTSTAMP:20260426T123320
CREATED:20250930T060411Z
LAST-MODIFIED:20251024T232100Z
UID:10000022-1762018200-1762039800@events.mareebachamber.com.au
SUMMARY:2025 Business Excellence Awards Night Dinner
DESCRIPTION:2025 Business Excellence Awards Night Dinner\nSaturday 1st November 2025\nMareeba International Club\n5.45pm /  Cocktail Attire /  Live Music\nMCOC BUSINESS AWARDS_2025_TICKETS NOW ON SALE \n 
URL:https://events.mareebachamber.com.au/event/2025-business-excellence-awards-night-dinner/
LOCATION:Mareeba International Club\, 10 Vaughan Street\, Mareeba\, Queensland\, 4880\, Australia
ATTACH;FMTTYPE=application/pdf:https://events.mareebachamber.com.au/wp-content/uploads/2025/09/MCOC-BUSINESS-AWARDS_2025_TICKETS-NOW-ON-SALE-1.pdf
ORGANIZER;CN="Mareeba Chamber of Commerce":MAILTO:accounts@mareebachamber.com.au
END:VEVENT
END:VCALENDAR